BEGIN:VCALENDAR
VERSION:2.0
PRODID:-//Iowa Geographic Information Council (IGIC) - ECPv6.15.20//NONSGML v1.0//EN
CALSCALE:GREGORIAN
METHOD:PUBLISH
X-WR-CALNAME:Iowa Geographic Information Council (IGIC)
X-ORIGINAL-URL:https://www.iowagic.org
X-WR-CALDESC:Events for Iowa Geographic Information Council (IGIC)
REFRESH-INTERVAL;VALUE=DURATION:PT1H
X-Robots-Tag:noindex
X-PUBLISHED-TTL:PT1H
BEGIN:VTIMEZONE
TZID:America/Chicago
BEGIN:DAYLIGHT
TZOFFSETFROM:-0600
TZOFFSETTO:-0500
TZNAME:CDT
DTSTART:20250309T080000
END:DAYLIGHT
BEGIN:STANDARD
TZOFFSETFROM:-0500
TZOFFSETTO:-0600
TZNAME:CST
DTSTART:20251102T070000
END:STANDARD
BEGIN:DAYLIGHT
TZOFFSETFROM:-0600
TZOFFSETTO:-0500
TZNAME:CDT
DTSTART:20260308T080000
END:DAYLIGHT
BEGIN:STANDARD
TZOFFSETFROM:-0500
TZOFFSETTO:-0600
TZNAME:CST
DTSTART:20261101T070000
END:STANDARD
BEGIN:DAYLIGHT
TZOFFSETFROM:-0600
TZOFFSETTO:-0500
TZNAME:CDT
DTSTART:20270314T080000
END:DAYLIGHT
BEGIN:STANDARD
TZOFFSETFROM:-0500
TZOFFSETTO:-0600
TZNAME:CST
DTSTART:20271107T070000
END:STANDARD
END:VTIMEZONE
BEGIN:VEVENT
DTSTART;TZID=America/Chicago:20260422T100000
DTEND;TZID=America/Chicago:20260422T120000
DTSTAMP:20260425T111854
CREATED:20260421T151031Z
LAST-MODIFIED:20260421T151031Z
UID:5428-1776852000-1776859200@www.iowagic.org
SUMMARY:2026 Spring Business Meeting
DESCRIPTION:Microsoft Teams meeting \nJoin: https://teams.microsoft.com/meet/259157018642770?p=S0cfXv83m6PD7bE0o5 \nMeeting ID: 259 157 018 642 770 \nPasscode: jK6eh96G \nNeed help? | System reference \nDial in by phone \n+1 773-352-2010\,\,490118279# United States\, Chicago \nFind a local number \nPhone conference ID: 490 118 279# \nFor organizers: Meeting options | Reset dial-in PIN
URL:https://www.iowagic.org/event/2026-spring-business-meeting/
CATEGORIES:Quarterly Meeting
END:VEVENT
BEGIN:VEVENT
DTSTART;TZID=America/Chicago:20260428T120000
DTEND;TZID=America/Chicago:20260428T130000
DTSTAMP:20260425T111854
CREATED:20260424T165853Z
LAST-MODIFIED:20260424T165943Z
UID:5467-1777377600-1777381200@www.iowagic.org
SUMMARY:April 2026 Enterprise Lunch & Learn: ArcGIS Hub
DESCRIPTION:Come learn about how you can build ArcGIS Hub Sites to share your authoritative data with your internal staff and external stakeholders and customers. After our presentation we will have time for Q&A about any enterprise related questions/issues you have! \n  \nMicrosoft Teams meeting \nJoin: https://teams.microsoft.com/meet/292906053205355?p=6N2ZvaU2quTRUv3maN \nMeeting ID: 292 906 053 205 355 \nPasscode: fS7Ka2uE \nNeed help? | System reference \nDial in by phone \n+1 773-352-2010\,\,554091297# United States\, Chicago \nFind a local number \nPhone conference ID: 554 091 297#
URL:https://www.iowagic.org/event/april-enterprise-lunch-learn-arcgis-hub/
CATEGORIES:Lunch and Learn
END:VEVENT
BEGIN:VEVENT
DTSTART;TZID=America/Chicago:20260512T110000
DTEND;TZID=America/Chicago:20260512T120000
DTSTAMP:20260425T111854
CREATED:20260423T190838Z
LAST-MODIFIED:20260423T191723Z
UID:5446-1778583600-1778587200@www.iowagic.org
SUMMARY:May 2026 Lunch & Learn
DESCRIPTION:Luke Finley from Esri will introduce accessibility in ArcGIS and highlight simple\, practical ways to make maps and apps easier for everyone to use. We’ll briefly cover accessibility standards and share real examples you can apply in your own work. \n  \nMicrosoft Teams meeting \nJoin: https://teams.microsoft.com/meet/286350023788199?p=d7YLGG5zij5kc4uPvm \nMeeting ID: 286 350 023 788 199 \nPasscode: Gq9vy6bj \nNeed help? | System reference \nDial in by phone \n+1 773-352-2010\,\,455658971# United States\, Chicago \nFind a local number \nPhone conference ID: 455 658 971# \n 
URL:https://www.iowagic.org/event/may-2026-lunch-learn/
CATEGORIES:Lunch and Learn
END:VEVENT
END:VCALENDAR