BEGIN:VCALENDAR
VERSION:2.0
PRODID:-//Iowa Geographic Information Council (IGIC) - ECPv6.15.20//NONSGML v1.0//EN
CALSCALE:GREGORIAN
METHOD:PUBLISH
X-ORIGINAL-URL:https://www.iowagic.org
X-WR-CALDESC:Events for Iowa Geographic Information Council (IGIC)
REFRESH-INTERVAL;VALUE=DURATION:PT1H
X-Robots-Tag:noindex
X-PUBLISHED-TTL:PT1H
BEGIN:VTIMEZONE
TZID:America/Chicago
BEGIN:DAYLIGHT
TZOFFSETFROM:-0600
TZOFFSETTO:-0500
TZNAME:CDT
DTSTART:20210314T080000
END:DAYLIGHT
BEGIN:STANDARD
TZOFFSETFROM:-0500
TZOFFSETTO:-0600
TZNAME:CST
DTSTART:20211107T070000
END:STANDARD
BEGIN:DAYLIGHT
TZOFFSETFROM:-0600
TZOFFSETTO:-0500
TZNAME:CDT
DTSTART:20220313T080000
END:DAYLIGHT
BEGIN:STANDARD
TZOFFSETFROM:-0500
TZOFFSETTO:-0600
TZNAME:CST
DTSTART:20221106T070000
END:STANDARD
BEGIN:DAYLIGHT
TZOFFSETFROM:-0600
TZOFFSETTO:-0500
TZNAME:CDT
DTSTART:20230312T080000
END:DAYLIGHT
BEGIN:STANDARD
TZOFFSETFROM:-0500
TZOFFSETTO:-0600
TZNAME:CST
DTSTART:20231105T070000
END:STANDARD
END:VTIMEZONE
BEGIN:VEVENT
DTSTART;TZID=America/Chicago:20220119T100000
DTEND;TZID=America/Chicago:20220119T120000
DTSTAMP:20260422T224941
CREATED:20211020T191442Z
LAST-MODIFIED:20220118T161342Z
UID:3075-1642586400-1642593600@www.iowagic.org
SUMMARY:Winter 2022 IGIC Board Quarterly Business Meeting
DESCRIPTION:The Winter 2022 quarterly meeting will be on Wednesday\, January 19\, 2022\, starting at 10:00 AM. \nIGIC Quarterly Meeting Agenda Winter 2022 [PDF\, 110.40 KB] (PDF) \n [JPG\, 123.57 KB] \nJOIN WEBEX MEETING \nhttps://iastate.webex.com/iastate/j.php?MTID=m9d04d290a44bf173d03830ed46bf36c1 \n 
URL:https://www.iowagic.org/event/winter-2022-igic-board-quarterly-business-meeting/
CATEGORIES:Quarterly Meeting
ORGANIZER;CN="Micah Cutler":MAILTO:mcutler@cgaconsultants.com
END:VEVENT
END:VCALENDAR